BEGIN:VCALENDAR
VERSION:2.0
PRODID:-//TYPO3/NONSGML News system (news)//EN
BEGIN:VEVENT
UID:news-6748@www.manteslajolie.fr
DTSTAMP:20260401T165731
DTSTART:20260423T140000
DTEND:20260423T170000
SUMMARY:Atelier So'Creatives - Peinture sur mur et pose de papier peint - 23 avril 2026
CATEGORIES:Visites guidées / Ateliers / Stages
DESCRIPTION:So’Créatives propose à Mantes-la-Jolie un atelier 
 gratuit autour du bricolage, des petits travaux et de 
 l’entretien du logement.
END:VEVENT
END:VCALENDAR