BEGIN:VCALENDAR
VERSION:2.0
PRODID:-//TYPO3/NONSGML News system (news)//EN
BEGIN:VEVENT
UID:news-6749@www.manteslajolie.fr
DTSTAMP:20260401T165719
DTSTART:20260507T140000
DTEND:20260507T170000
SUMMARY:Atelier So'Creatives - Création d'un produit ménager et nettoyage de la VMC - 7 mai 2026
CATEGORIES:Visites guidées / Ateliers / Stages
DESCRIPTION:So’Créatives propose à Mantes-la-Jolie un atelier 
 gratuit autour du bricolage, des petits travaux et de 
 l’entretien du logement.
END:VEVENT
END:VCALENDAR