BEGIN:VCALENDAR
VERSION:2.0
PRODID:-//TYPO3/NONSGML News system (news)//EN
BEGIN:VEVENT
UID:news-6825@www.manteslajolie.fr
DTSTAMP:20260422T114502
DTSTART:20261112T140000
DTEND:20261112T160000
SUMMARY:Atelier So'Creatives - Apprenez à embellir votre intérieur - 12 novembre 2026
CATEGORIES:Visites guidées / Ateliers / Stages
DESCRIPTION:So’Créatives propose à Mantes-la-Jolie un atelier 
 gratuit autour du bricolage, des petits travaux et de 
 l’entretien du logement.
END:VEVENT
END:VCALENDAR