BEGIN:VCALENDAR
VERSION:2.0
PRODID:-//TYPO3/NONSGML News system (news)//EN
BEGIN:VEVENT
UID:news-6460@www.manteslajolie.fr
DTSTAMP:20260113T105706
DTSTART:20260603T140000
DTEND:20260603T170000
SUMMARY:Atelier Origami - 3 juin 2026
CATEGORIES:Médiathèques, Visites guidées / Ateliers / Stages
DESCRIPTION:Vous souhaitez passer un bon moment et créer votre propre 
 réalisation en origami ?   Session 8/9ans : 
 14h-15h Session 10/12ans :16h-17h
LOCATION:Médiathèque Georges-Duhamel
END:VEVENT
END:VCALENDAR