BEGIN:VCALENDAR
VERSION:2.0
PRODID:-//TYPO3/NONSGML News system (news)//EN
BEGIN:VEVENT
UID:news-6469@www.manteslajolie.fr
DTSTAMP:20260113T113223
DTSTART:20260610T153000
DTEND:20260610T173000
SUMMARY:Atelier JEU M'ÉCLATE ! avec Antoine le maître de jeu - 10 juin 2026
CATEGORIES:Famille, Jeunesse, Médiathèques
DESCRIPTION:Enfants dès 6 ans. Vous avez été nombreux à réclamer 
 le retour des séances Jeu m'éclate ! Venez partager un 
 moment agréable et convivial ! Défiez également les 
 autres joueurs en développant votre sens de la stratégie !
LOCATION:Médiathèque Louis-Aragon
END:VEVENT
END:VCALENDAR