BEGIN:VCALENDAR
VERSION:2.0
PRODID:-//TYPO3/NONSGML News system (news)//EN
BEGIN:VEVENT
UID:news-6478@www.manteslajolie.fr
DTSTAMP:20260113T115215
DTSTART:20260523T140000
DTEND:20260523T170000
SUMMARY:Atelier JEU Maîtrise ! - 23 mai 2026
CATEGORIES:Famille, Jeunesse, Médiathèques
DESCRIPTION:À partir de 10 ans. Tout public Vous avez été nombreux 
 à aimer les séances "Jeu m'éclate" ! Découvrez 
 maintenant "Jeu Maîtrise"!  Venez partager un moment 
 agréable et convivial.  Une nouvelle façon d'apprendre à 
 jouer pour faire des parties en autonomie ! 
LOCATION:Médiathèque Louis-Aragon
END:VEVENT
END:VCALENDAR