BEGIN:VCALENDAR
VERSION:2.0
PRODID:-//TYPO3/NONSGML News system (news)//EN
BEGIN:VEVENT
UID:news-6462@www.manteslajolie.fr
DTSTAMP:20260113T105906
DTSTART:20260620T143000
DTEND:20260620T153000
SUMMARY:Atelier Jeu "Games in English" - 20 juin 2026
CATEGORIES:Médiathèques, Visites guidées / Ateliers / Stages
DESCRIPTION:Gratuit | Sur inscription A partir de 11 ans Participez à 
 un atelier-jeu "Games in English". Vous pourrez vous initiez 
 à la langue anglaise autour d'un condensé de jeux  et 
 d'activités.
LOCATION:Médiathèque Georges-Duhamel
END:VEVENT
END:VCALENDAR