BEGIN:VCALENDAR
VERSION:2.0
PRODID:-//TYPO3/NONSGML News system (news)//EN
BEGIN:VEVENT
UID:news-6552@www.manteslajolie.fr
DTSTAMP:20260129T172020
DTSTART:20260502T000000
DTEND:20260502T000000
SUMMARY:Atelier fabrication de jeux - 2 mai 2026
CATEGORIES:Ludothèques, Visites guidées / Ateliers / Stages
DESCRIPTION:Participez à un atelier ludique et créatif de fabrication 
 de jeux de société à partir de matériaux de 
 récupération. Animé par l’association Temps du Lude, 
 cet atelier sur inscription s’adresse aux enfants dès 7 
 ans, avec un engagement sur quatre séances.
LOCATION:Ludothèque Chopin
END:VEVENT
END:VCALENDAR