BEGIN:VCALENDAR
VERSION:2.0
PRODID:-//TYPO3/NONSGML News system (news)//EN
BEGIN:VEVENT
UID:news-6689@www.manteslajolie.fr
DTSTAMP:20260226T154524
DTSTART:20260620T140000
DTEND:20260620T180000
SUMMARY:Atelier dessin Manga - 20 juin 2026
CATEGORIES:Médiathèques, Visites guidées / Ateliers / Stages
DESCRIPTION:Gratuit | Tout public dès 7 ans Ateliers d'initiation au 
 dessin de manga. 
LOCATION:Médiathèque Georges-Duhamel
END:VEVENT
END:VCALENDAR