BEGIN:VCALENDAR
VERSION:2.0
PRODID:-//TYPO3/NONSGML News system (news)//EN
BEGIN:VEVENT
UID:news-6802@www.manteslajolie.fr
DTSTAMP:20260415T115528
DTSTART:20260523T140000
DTEND:20260523T150000
SUMMARY:Atelier d'écriture "Le chant des oiseaux" ou "L'hôtel à insectes » - Fête de la Nature - 2026
CATEGORIES:Médiathèques, Visites guidées / Ateliers / Stages
DESCRIPTION:Gratuit | Sur inscription Tout public dès 6 ans Exercices 
 d'écriture ludiques
LOCATION:Médiathèque Georges-Duhamel
END:VEVENT
END:VCALENDAR