BEGIN:VCALENDAR
VERSION:2.0
PRODID:-//TYPO3/NONSGML News system (news)//EN
BEGIN:VEVENT
UID:news-6438@www.manteslajolie.fr
DTSTAMP:20260113T095747
DTSTART:20260627T143000
DTEND:20260627T153000
SUMMARY:Atelier Déclic Lecture - 27 juin 2026
CATEGORIES:Famille, Jeunesse, Médiathèques
DESCRIPTION:De 6 ans à 8 ans Gratuit sur inscription L'atelier 
 "Déclic-lecture" est un rendez-vous mensuel pour partir à 
 la découverte des premières lectures.
LOCATION:Médiathèque Georges-Duhamel
END:VEVENT
END:VCALENDAR