BEGIN:VCALENDAR
VERSION:2.0
PRODID:-//TYPO3/NONSGML News system (news)//EN
BEGIN:VEVENT
UID:news-6511@www.manteslajolie.fr
DTSTAMP:20260407T113219
DTSTART:20260425T160000
DTEND:20260425T173000
SUMMARY:Atelier créatif - Revue DADA - 25 avril 2026
CATEGORIES:Famille, Jeunesse, Médiathèques, Visites guidées / Ateliers / Stages
DESCRIPTION:Gratuit | Sur inscription Pour les 6-12 ans En lien avec 
 la revue Dada (revue de référence pour découvrir l’art 
 en famille), venez découvrir l’univers d’un artiste ou 
 d’un courant… Par la pratique tout en vous amusant dans 
 cet atelier ! Au programme : origami du printemps
LOCATION:Médiathèque Louis-Aragon
END:VEVENT
END:VCALENDAR