BEGIN:VCALENDAR
VERSION:2.0
PRODID:-//TYPO3/NONSGML News system (news)//EN
BEGIN:VEVENT
UID:news-6515@www.manteslajolie.fr
DTSTAMP:20260407T113231
DTSTART:20260603T160000
DTEND:20260603T173000
SUMMARY:Atelier créatif - Revue DADA - 13 juin 2026
CATEGORIES:Famille, Jeunesse, Médiathèques, Visites guidées / Ateliers / Stages
DESCRIPTION:Gratuit | Sur inscription Pour les 6-12 ans En lien avec 
 la revue Dada (revue de référence pour découvrir l’art 
 en famille), venez découvrir l’univers d’un artiste ou 
 d’un courant… Par la pratique tout en vous amusant dans 
 cet atelier ! Au programme : origami d'été
LOCATION:Médiathèque Louis-Aragon
END:VEVENT
END:VCALENDAR