BEGIN:VCALENDAR
VERSION:2.0
PRODID:-//TYPO3/NONSGML News system (news)//EN
BEGIN:VEVENT
UID:news-6796@www.manteslajolie.fr
DTSTAMP:20260415T111708
DTSTART:20260530T140000
DTEND:20260530T180000
SUMMARY:Atelier créatif Gunpla - 30 mai 2026
CATEGORIES:Médiathèques, Visites guidées / Ateliers / Stages
DESCRIPTION:Gratuit sur inscription | Tout public Plongez dans 
 l’univers fascinant des robots japonais. 
LOCATION:Médiathèque Louis-Aragon
END:VEVENT
END:VCALENDAR