BEGIN:VCALENDAR
VERSION:2.0
PRODID:-//TYPO3/NONSGML News system (news)//EN
BEGIN:VEVENT
UID:news-6807@www.manteslajolie.fr
DTSTAMP:20260415T115909
DTSTART:20260422T160000
DTEND:20260422T160000
SUMMARY:Atelier Conte - 22 avril 2026
CATEGORIES:Médiathèques, Visites guidées / Ateliers / Stages
DESCRIPTION:La médiathèque Georges-Duhamel propose un atelier conte 
 gratuit, sans inscription, à destination des enfants dès 3 
 ans. Un moment ludique et poétique pour éveiller 
 l’imaginaire, transmettre le plaisir des histoires et 
 donner le goût de la lecture dès le plus jeune âge.
LOCATION:Médiathèque Georges-Duhamel
END:VEVENT
END:VCALENDAR