BEGIN:VCALENDAR
VERSION:2.0
PRODID:-//TYPO3/NONSGML News system (news)//EN
BEGIN:VEVENT
UID:news-6701@www.manteslajolie.fr
DTSTAMP:20260226T164131
DTSTART:20260516T140000
DTEND:20260516T180000
SUMMARY:Animation « Jeux vidéo libres » - 16 mai 2026
CATEGORIES:Médiathèques
DESCRIPTION:Gratuit La Médiathèque Georges-Duhamel lance 
 l’animation « Jeux vidéo libres » : deux rendez-vous 
 gratuits pour découvrir et tester des jeux vidéo en accès 
 libre, en partenariat avec la Ludothèque Chopin, dans une 
 ambiance conviviale et intergénérationnelle.
LOCATION:Médiathèque Georges-Duhamel
END:VEVENT
END:VCALENDAR