BEGIN:VCALENDAR
VERSION:2.0
PRODID:-//TYPO3/NONSGML News system (news)//EN
BEGIN:VEVENT
UID:news-6815@www.manteslajolie.fr
DTSTAMP:20260416T112414
DTSTART:20260509T200000
DTEND:20260509T200000
SUMMARY:9ème édition du Bob Dylan’s day - Concert - 9 mai 2026
CATEGORIES:Spectacles
DESCRIPTION:Tout public - Entrée libre Trois heures de musique live, 
 de mots, de son et de lumière, pour entrer un peu dans 
 l'univers d'une légende.  Pour la 9ème édition, 
 plusieurs groupes, du Mantois et d’ailleurs, Dylanophiles 
 de longue date pour certains, se succèderont pour reprendre 
 une trentaine de ses morceaux. Chaque groupe à sa manière 
 : classique ou profondément revisitée, mais 
 toujours&hellip;
LOCATION:Collectif 12
END:VEVENT
END:VCALENDAR